BEGIN:VCALENDAR
VERSION:2.0
PRODID:-//BiosWork - ECPv6.15.20//NONSGML v1.0//EN
CALSCALE:GREGORIAN
METHOD:PUBLISH
X-WR-CALNAME:BiosWork
X-ORIGINAL-URL:https://bios-work.com
X-WR-CALDESC:Events for BiosWork
REFRESH-INTERVAL;VALUE=DURATION:PT1H
X-Robots-Tag:noindex
X-PUBLISHED-TTL:PT1H
BEGIN:VTIMEZONE
TZID:America/Chicago
BEGIN:DAYLIGHT
TZOFFSETFROM:-0600
TZOFFSETTO:-0500
TZNAME:CDT
DTSTART:20220313T080000
END:DAYLIGHT
BEGIN:STANDARD
TZOFFSETFROM:-0500
TZOFFSETTO:-0600
TZNAME:CST
DTSTART:20221106T070000
END:STANDARD
BEGIN:DAYLIGHT
TZOFFSETFROM:-0600
TZOFFSETTO:-0500
TZNAME:CDT
DTSTART:20230312T080000
END:DAYLIGHT
BEGIN:STANDARD
TZOFFSETFROM:-0500
TZOFFSETTO:-0600
TZNAME:CST
DTSTART:20231105T070000
END:STANDARD
BEGIN:DAYLIGHT
TZOFFSETFROM:-0600
TZOFFSETTO:-0500
TZNAME:CDT
DTSTART:20240310T080000
END:DAYLIGHT
BEGIN:STANDARD
TZOFFSETFROM:-0500
TZOFFSETTO:-0600
TZNAME:CST
DTSTART:20241103T070000
END:STANDARD
END:VTIMEZONE
BEGIN:VEVENT
DTSTART;VALUE=DATE:20230704
DTEND;VALUE=DATE:20230705
DTSTAMP:20260419T075524
CREATED:20230703T170709Z
LAST-MODIFIED:20230703T170709Z
UID:605-1688428800-1688515199@bios-work.com
SUMMARY:Offices Closed
DESCRIPTION:
URL:https://bios-work.com/event/offices-closed/
ATTACH;FMTTYPE=image/png:https://bios-work.com/wp-content/uploads/sites/4/2023/07/Out-of-Office.png
END:VEVENT
BEGIN:VEVENT
DTSTART;VALUE=DATE:20230704
DTEND;VALUE=DATE:20230705
DTSTAMP:20260419T075524
CREATED:20230703T170738Z
LAST-MODIFIED:20230703T170738Z
UID:608-1688428800-1688515199@bios-work.com
SUMMARY:4th of July
DESCRIPTION:
URL:https://bios-work.com/event/4th-of-july/
ATTACH;FMTTYPE=image/png:https://bios-work.com/wp-content/uploads/sites/4/2023/07/Blue-And-Red-Illustrated-Happy-4th-Of-July-Facebook-Cover.png
END:VEVENT
END:VCALENDAR